BEGIN:VCALENDAR
VERSION:2.0
PRODID:-//wp-events-plugin.com//7.2.2.1//EN
TZID:Europe/Zurich
X-WR-TIMEZONE:Europe/Zurich
BEGIN:VEVENT
UID:2@compagniedeva.com
DTSTART;TZID=Europe/Zurich:20240920T200000
DTEND;TZID=Europe/Zurich:20240920T213000
DTSTAMP:20240617T105901Z
URL:https://compagniedeva.com/events/dans-la-roue-de-jeannie-longo-2/
SUMMARY:Dans la roue de Jeannie Longo
DESCRIPTION:Un portrait mêlant faits réels et fantasmés sur Jeannie Long
 o\, cycliste française à la longévité exceptionnelle et au palmarès u
 nique\, modèle de résilience et de combativité. Cette pièce est une pl
 ongée dans le sport féminin d’hier et d’aujourd’hui. Un « seule e
 n selle » immersif et jubilatoire.
ATTACH;FMTTYPE=image/jpeg:https://compagniedeva.com/wp-content/uploads/202
 4/06/Drama-Queen-Claudia-Nuara-030-_1_-scaled.webp
LOCATION:Nebia poche\, Rue Haute 1\, Biel/Bienne\, Bern\, 2502\, Suisse
X-APPLE-STRUCTURED-LOCATION;VALUE=URI;X-ADDRESS=Rue Haute 1\, Biel/Bienne\,
  Bern\, 2502\, Suisse;X-APPLE-RADIUS=100;X-TITLE=Nebia poche:geo:0,0
END:VEVENT
BEGIN:VTIMEZONE
TZID:Europe/Zurich
X-LIC-LOCATION:Europe/Zurich
BEGIN:DAYLIGHT
DTSTART:20240331T030000
TZOFFSETFROM:+0100
TZOFFSETTO:+0200
TZNAME:CEST
END:DAYLIGHT
END:VTIMEZONE
END:VCALENDAR